BEGIN:VCALENDAR
VERSION:2.0
PRODID:-//The Pincus Center - ECPv6.15.20//NONSGML v1.0//EN
CALSCALE:GREGORIAN
METHOD:PUBLISH
X-WR-CALNAME:The Pincus Center
X-ORIGINAL-URL:https://thepincuscenter.com
X-WR-CALDESC:Events for The Pincus Center
REFRESH-INTERVAL;VALUE=DURATION:PT1H
X-Robots-Tag:noindex
X-PUBLISHED-TTL:PT1H
BEGIN:VTIMEZONE
TZID:America/New_York
BEGIN:DAYLIGHT
TZOFFSETFROM:-0500
TZOFFSETTO:-0400
TZNAME:EDT
DTSTART:20250309T070000
END:DAYLIGHT
BEGIN:STANDARD
TZOFFSETFROM:-0400
TZOFFSETTO:-0500
TZNAME:EST
DTSTART:20251102T060000
END:STANDARD
BEGIN:DAYLIGHT
TZOFFSETFROM:-0500
TZOFFSETTO:-0400
TZNAME:EDT
DTSTART:20260308T070000
END:DAYLIGHT
BEGIN:STANDARD
TZOFFSETFROM:-0400
TZOFFSETTO:-0500
TZNAME:EST
DTSTART:20261101T060000
END:STANDARD
BEGIN:DAYLIGHT
TZOFFSETFROM:-0500
TZOFFSETTO:-0400
TZNAME:EDT
DTSTART:20270314T070000
END:DAYLIGHT
BEGIN:STANDARD
TZOFFSETFROM:-0400
TZOFFSETTO:-0500
TZNAME:EST
DTSTART:20271107T060000
END:STANDARD
END:VTIMEZONE
BEGIN:VEVENT
DTSTART;TZID=America/New_York:20260203T190000
DTEND;TZID=America/New_York:20260203T203000
DTSTAMP:20260420T075218
CREATED:20260113T163217Z
LAST-MODIFIED:20260120T161814Z
UID:4702-1770145200-1770150600@thepincuscenter.com
SUMMARY:Loving in Transition Support Group
DESCRIPTION:The political and social climate in the United States is growing ever more hostile to transgender\, non-binary\, and gender non-conforming people. If you have a family member\, romantic partner\, or friend who is in or has gone through gender transition\, it can be difficult knowing how to support your loved one and yourself. \nDebo Katz\, LGSW\, LMSW\, (they/them)\, therapist at The Pincus Center\, has created an online support group for those with loved ones currently in the process of gender transition or who have already transitioned. Gain community throughout your struggles\, celebrate wins together\, and get professional guidance through tough times. \nAlthough the group will be virtual\, participants must reside in Virginia\, DC\, or Maryland. The start date is February 3 2026 and it will run every Tuesday for eight weeks. Attendance for all eight sessions is not mandatory. Sliding scale tiers are available for $50\, $75\, or $100 per session. \nPlease fill out this form expressing interest or send an email to dkatz@tamarapincus.com.\n  \nAbout your facilitator \nDebo Katz\, LGSW\, LMSW (they/them) is a queer-identified\, trauma-informed\, and person-centered therapist who works with clients of various identities\, kinks\, and relationship styles to help build skills to support curious self-reflection and empowerment. They specialize in working with members of the LGBTQ+ community\, but all are welcome who are navigating issues of sex and relationships\, life transitions\, gender expansion\, intersecting identities\, trauma\, substance use\, fat stigma\, depression\, and anxiety. In addition to being a therapist and connecting with other humans\, they enjoy being with nature\, food\, pets\, and creating sounds. \nThe Pincus Center for Inclusive Treatment and Education specializes in working with queer\, transgender/nonbinary\, kinky\, and ethically non-monogamous/polyamorous people. We value sex positivity (including asexuality)\, body positivity and fat liberation\, and racial justice.
URL:https://thepincuscenter.com/event/lit-support-group/
LOCATION:Online Event
CATEGORIES:Classes,Debo Katz,LGBTQ
ATTACH;FMTTYPE=image/png:https://thepincuscenter.com/wp-content/uploads/2026/01/LIT-Support-Group-FB-1.png
ORGANIZER;CN="Debo Katz":MAILTO:dkatz@tamarapincus.com
END:VEVENT
BEGIN:VEVENT
DTSTART;TZID=America/New_York:20260205T190000
DTEND;TZID=America/New_York:20260205T201500
DTSTAMP:20260420T075218
CREATED:20260120T210007Z
LAST-MODIFIED:20260120T210402Z
UID:4731-1770318000-1770322500@thepincuscenter.com
SUMMARY:Valentine's Day 101: Affirming Sex and Relationship Q&A
DESCRIPTION:Come get in the Valentine’s Day spirit by joining us at the MLK Jr. Memorial Library to ask anonymous questions of an expert panel of sex and relationship therapists! \n\n\n\n\n\n\nAhead of Valentine’s Day\, head to the library\, where an expert panel of sex and relationship therapists will be on hand to answer your intimate (or not) questions anonymously. Bring a date or come solo. It’s sure to be a fun\, informative\, sex-positive\, and affirming time! Although the program is open to all\, it is geared toward adults. \nThe event will take place in the Fifth Floor Event Space where library staff will be on hand to assist with distributing and collecting paper on which you can write down questions that will then be asked of the panelists. Panelists will not be able to give out medical advice\, but everything else is able to be asked! For more information feel free to e-mail adultservices.dcpl@dc.gov. \n  \nPanelists include: \nTamara Pincus and Kate Gilles of the Pincus Center \nDr. Donna Oriowo of AnnodRight \nCamille Espinoza at Center for Intimacy (https://www.centerforintimacy.com/) \nRJ Kirkland\, Dionna Langford\, and Jennifer Keilholtz of Peak Therapy \nRon Belotti of True Path Counseling LLC \n\n\n\n 
URL:https://thepincuscenter.com/event/valentines-day-101-2-26/
LOCATION:Martin Luther King Jr. Memorial Library – Central Library\, 901 G St NW\, Washington\, DC\, 20001\, United States
CATEGORIES:BDSM,Classes,LGBTQ,Nonmonogamy,Sex Education
ATTACH;FMTTYPE=image/png:https://thepincuscenter.com/wp-content/uploads/2026/01/Valentine_s_Day_Image-e1768943033544.png
END:VEVENT
BEGIN:VEVENT
DTSTART;TZID=America/New_York:20260210T190000
DTEND;TZID=America/New_York:20260210T203000
DTSTAMP:20260420T075218
CREATED:20260120T161656Z
LAST-MODIFIED:20260120T161931Z
UID:4715-1770750000-1770755400@thepincuscenter.com
SUMMARY:Loving in Transition Support Group
DESCRIPTION:The political and social climate in the United States is growing ever more hostile to transgender\, non-binary\, and gender non-conforming people. If you have a family member\, romantic partner\, or friend who is in or has gone through gender transition\, it can be difficult knowing how to support your loved one and yourself. \nDebo Katz\, LGSW\, LMSW\, (they/them)\, therapist at The Pincus Center\, has created an online support group for those with loved ones currently in the process of gender transition or who have already transitioned. Gain community throughout your struggles\, celebrate wins together\, and get professional guidance through tough times. \nAlthough the group will be virtual\, participants must reside in Virginia\, DC\, or Maryland. The start date is February 3 2026 and it will run every Tuesday for eight weeks. Attendance for all eight sessions is not mandatory. Sliding scale tiers are available for $50\, $75\, or $100 per session. \nPlease fill out this form expressing interest or send an email to dkatz@tamarapincus.com.\n  \nAbout your facilitator \nDebo Katz\, LGSW\, LMSW (they/them) is a queer-identified\, trauma-informed\, and person-centered therapist who works with clients of various identities\, kinks\, and relationship styles to help build skills to support curious self-reflection and empowerment. They specialize in working with members of the LGBTQ+ community\, but all are welcome who are navigating issues of sex and relationships\, life transitions\, gender expansion\, intersecting identities\, trauma\, substance use\, fat stigma\, depression\, and anxiety. In addition to being a therapist and connecting with other humans\, they enjoy being with nature\, food\, pets\, and creating sounds. \nThe Pincus Center for Inclusive Treatment and Education specializes in working with queer\, transgender/nonbinary\, kinky\, and ethically non-monogamous/polyamorous people. We value sex positivity (including asexuality)\, body positivity and fat liberation\, and racial justice.
URL:https://thepincuscenter.com/event/lit-support-group2/
LOCATION:Online Event
CATEGORIES:Classes,Debo Katz,LGBTQ
ATTACH;FMTTYPE=image/png:https://thepincuscenter.com/wp-content/uploads/2026/01/LIT-Support-Group-FB-1.png
ORGANIZER;CN="Debo Katz":MAILTO:dkatz@tamarapincus.com
END:VEVENT
BEGIN:VEVENT
DTSTART;TZID=America/New_York:20260211T200000
DTEND;TZID=America/New_York:20260211T213000
DTSTAMP:20260420T075218
CREATED:20260122T220302Z
LAST-MODIFIED:20260126T224209Z
UID:4749-1770840000-1770845400@thepincuscenter.com
SUMMARY:Monthly Support Group for Mono/Poly Relationships
DESCRIPTION:Monthly coaching support group for relationships where one partner wants monogamy and the other wants nonmonogamy\, led by an expert coach. \n\n\nThis group is designed to offer support for people who are in mixed dynamic relationships in which one partner wants an exclusive relationship\, and another partner wants an open or multiple partner relationship. Meetings are online and last from 1.5 to 2 hours\, depending on the group energy. \nThe current meeting time is the second Wednesday of every month at 5 pm Pacific\, 8pm Eastern time\, beginning February 11. Please contact Dr. Eli at drelisheff@gmail.com with any questions. Sliding scale is available; please contact us at events@tamarapincus.com to discuss it. \nPlease sign up on our Eventbrite page to reserve your spot!\nAbout your facilitator \nDr. Elisabeth “Eli” Sheff (she/her) has researched polyamorous families with children for over 25 years. She is the author of four books\, 30+ peer-reviewed publications\, and 130+ blogs on Psychology Today\, with 10+ years’ experience coaching people facing challenges with CNM and BDSM. Dr. Eli specializes in the mono/CNM mismatch because she intellectualized her fear\, and has been the mono partner in two CNM/mono marriages. Her super-power is combining research findings and trends gleaned from her coaching practice with personal insights to understand if\, when\, and how mono/CNM relationships can work or not.
URL:https://thepincuscenter.com/event/monthly-support-group-for-mono-poly-relationships/
LOCATION:Online Event
CATEGORIES:Eli Sheff,Nonmonogamy
ATTACH;FMTTYPE=image/jpeg:https://thepincuscenter.com/wp-content/uploads/2026/01/Mono-Poly-Group-Eventbrite-Banner-3.jpg
END:VEVENT
BEGIN:VEVENT
DTSTART;TZID=America/New_York:20260217T190000
DTEND;TZID=America/New_York:20260217T203000
DTSTAMP:20260420T075218
CREATED:20260120T161843Z
LAST-MODIFIED:20260120T161953Z
UID:4717-1771354800-1771360200@thepincuscenter.com
SUMMARY:Loving in Transition Support Group
DESCRIPTION:The political and social climate in the United States is growing ever more hostile to transgender\, non-binary\, and gender non-conforming people. If you have a family member\, romantic partner\, or friend who is in or has gone through gender transition\, it can be difficult knowing how to support your loved one and yourself. \nDebo Katz\, LGSW\, LMSW\, (they/them)\, therapist at The Pincus Center\, has created an online support group for those with loved ones currently in the process of gender transition or who have already transitioned. Gain community throughout your struggles\, celebrate wins together\, and get professional guidance through tough times. \nAlthough the group will be virtual\, participants must reside in Virginia\, DC\, or Maryland. The start date is February 3 2026 and it will run every Tuesday for eight weeks. Attendance for all eight sessions is not mandatory. Sliding scale tiers are available for $50\, $75\, or $100 per session. \nPlease fill out this form expressing interest or send an email to dkatz@tamarapincus.com.\n  \nAbout your facilitator \nDebo Katz\, LGSW\, LMSW (they/them) is a queer-identified\, trauma-informed\, and person-centered therapist who works with clients of various identities\, kinks\, and relationship styles to help build skills to support curious self-reflection and empowerment. They specialize in working with members of the LGBTQ+ community\, but all are welcome who are navigating issues of sex and relationships\, life transitions\, gender expansion\, intersecting identities\, trauma\, substance use\, fat stigma\, depression\, and anxiety. In addition to being a therapist and connecting with other humans\, they enjoy being with nature\, food\, pets\, and creating sounds. \nThe Pincus Center for Inclusive Treatment and Education specializes in working with queer\, transgender/nonbinary\, kinky\, and ethically non-monogamous/polyamorous people. We value sex positivity (including asexuality)\, body positivity and fat liberation\, and racial justice.
URL:https://thepincuscenter.com/event/lit-support-group3/
LOCATION:Online Event
CATEGORIES:Classes,Debo Katz,LGBTQ
ATTACH;FMTTYPE=image/png:https://thepincuscenter.com/wp-content/uploads/2026/01/LIT-Support-Group-FB-1.png
ORGANIZER;CN="Debo Katz":MAILTO:dkatz@tamarapincus.com
END:VEVENT
BEGIN:VEVENT
DTSTART;TZID=America/New_York:20260224T190000
DTEND;TZID=America/New_York:20260224T203000
DTSTAMP:20260420T075218
CREATED:20260120T162118Z
LAST-MODIFIED:20260120T162118Z
UID:4719-1771959600-1771965000@thepincuscenter.com
SUMMARY:Loving in Transition Support Group
DESCRIPTION:The political and social climate in the United States is growing ever more hostile to transgender\, non-binary\, and gender non-conforming people. If you have a family member\, romantic partner\, or friend who is in or has gone through gender transition\, it can be difficult knowing how to support your loved one and yourself. \nDebo Katz\, LGSW\, LMSW\, (they/them)\, therapist at The Pincus Center\, has created an online support group for those with loved ones currently in the process of gender transition or who have already transitioned. Gain community throughout your struggles\, celebrate wins together\, and get professional guidance through tough times. \nAlthough the group will be virtual\, participants must reside in Virginia\, DC\, or Maryland. The start date is February 3 2026 and it will run every Tuesday for eight weeks. Attendance for all eight sessions is not mandatory. Sliding scale tiers are available for $50\, $75\, or $100 per session. \nPlease fill out this form expressing interest or send an email to dkatz@tamarapincus.com.\n  \nAbout your facilitator \nDebo Katz\, LGSW\, LMSW (they/them) is a queer-identified\, trauma-informed\, and person-centered therapist who works with clients of various identities\, kinks\, and relationship styles to help build skills to support curious self-reflection and empowerment. They specialize in working with members of the LGBTQ+ community\, but all are welcome who are navigating issues of sex and relationships\, life transitions\, gender expansion\, intersecting identities\, trauma\, substance use\, fat stigma\, depression\, and anxiety. In addition to being a therapist and connecting with other humans\, they enjoy being with nature\, food\, pets\, and creating sounds. \nThe Pincus Center for Inclusive Treatment and Education specializes in working with queer\, transgender/nonbinary\, kinky\, and ethically non-monogamous/polyamorous people. We value sex positivity (including asexuality)\, body positivity and fat liberation\, and racial justice.
URL:https://thepincuscenter.com/event/lit-support-group4/
LOCATION:Online Event
CATEGORIES:Classes,Debo Katz,LGBTQ
ATTACH;FMTTYPE=image/png:https://thepincuscenter.com/wp-content/uploads/2026/01/LIT-Support-Group-FB-1.png
ORGANIZER;CN="Debo Katz":MAILTO:dkatz@tamarapincus.com
END:VEVENT
END:VCALENDAR